BEGIN:VCALENDAR
VERSION:2.0
PRODID:-//Commune de Villers-Semeuse - ECPv6.15.20//NONSGML v1.0//EN
CALSCALE:GREGORIAN
METHOD:PUBLISH
X-ORIGINAL-URL:https://www.villers-semeuse.fr
X-WR-CALDESC:Évènements pour Commune de Villers-Semeuse
REFRESH-INTERVAL;VALUE=DURATION:PT1H
X-Robots-Tag:noindex
X-PUBLISHED-TTL:PT1H
BEGIN:VTIMEZONE
TZID:Europe/Paris
BEGIN:DAYLIGHT
TZOFFSETFROM:+0100
TZOFFSETTO:+0200
TZNAME:CEST
DTSTART:20180325T010000
END:DAYLIGHT
BEGIN:STANDARD
TZOFFSETFROM:+0200
TZOFFSETTO:+0100
TZNAME:CET
DTSTART:20181028T010000
END:STANDARD
BEGIN:DAYLIGHT
TZOFFSETFROM:+0100
TZOFFSETTO:+0200
TZNAME:CEST
DTSTART:20190331T010000
END:DAYLIGHT
BEGIN:STANDARD
TZOFFSETFROM:+0200
TZOFFSETTO:+0100
TZNAME:CET
DTSTART:20191027T010000
END:STANDARD
BEGIN:DAYLIGHT
TZOFFSETFROM:+0100
TZOFFSETTO:+0200
TZNAME:CEST
DTSTART:20200329T010000
END:DAYLIGHT
BEGIN:STANDARD
TZOFFSETFROM:+0200
TZOFFSETTO:+0100
TZNAME:CET
DTSTART:20201025T010000
END:STANDARD
END:VTIMEZONE
BEGIN:VEVENT
DTSTART;TZID=Europe/Paris:20190202T090000
DTEND;TZID=Europe/Paris:20190202T160000
DTSTAMP:20260419T150139
CREATED:20190128T144519Z
LAST-MODIFIED:20190128T144519Z
UID:4087-1549098000-1549123200@www.villers-semeuse.fr
SUMMARY:Distribution de sel pour les villersois
DESCRIPTION:La municipalité a décidé de fournir à chaque foyer villersois du sel au cours de la période hivernale. \nLe contenu d’un seau de sel sera délivré à chaque foyer villersois se déplaçant lors d’une permanence assurée par les services techniques de la ville\, uniquement un par foyer. Un justificatif de domicile sera demandé pour retirer le sel. \nPar souci d’entraide\, pensez à vos voisins plus âgés : il sera possible de retirer un seau leur étant destiné sous présentation de leur justificatif de domicile. \nATTENTION\, un seau « Villers-Semeuse » a été donné les deux dernières années aux habitants venus aux permanences. Venez récupérer votre sel pour cette année en apportant ce seau\, aucun seau ne sera distribué à ces permanences. \nLES PERMANENCES : samedi 2 février 2019\, aux ateliers municipaux\, rue Albert Poulain\, de 9h00 à 12h00 et de 14h00 à 16h00 !
URL:https://www.villers-semeuse.fr/event/distribution-de-sel-pour-les-villersois-3
CATEGORIES:Evénements,Ville de Villers-Semeuse
ATTACH;FMTTYPE=image/png:https://www.villers-semeuse.fr/wp-content/uploads/2019/01/flyer_bac_a_sel-01-e1548686702388.png
END:VEVENT
END:VCALENDAR