BEGIN:VCALENDAR
VERSION:2.0
PRODID:-//Commune de Villers-Semeuse - ECPv6.15.20//NONSGML v1.0//EN
CALSCALE:GREGORIAN
METHOD:PUBLISH
X-WR-CALNAME:Commune de Villers-Semeuse
X-ORIGINAL-URL:https://www.villers-semeuse.fr
X-WR-CALDESC:Évènements pour Commune de Villers-Semeuse
REFRESH-INTERVAL;VALUE=DURATION:PT1H
X-Robots-Tag:noindex
X-PUBLISHED-TTL:PT1H
BEGIN:VTIMEZONE
TZID:Europe/Paris
BEGIN:DAYLIGHT
TZOFFSETFROM:+0100
TZOFFSETTO:+0200
TZNAME:CEST
DTSTART:20170326T010000
END:DAYLIGHT
BEGIN:STANDARD
TZOFFSETFROM:+0200
TZOFFSETTO:+0100
TZNAME:CET
DTSTART:20171029T010000
END:STANDARD
BEGIN:DAYLIGHT
TZOFFSETFROM:+0100
TZOFFSETTO:+0200
TZNAME:CEST
DTSTART:20180325T010000
END:DAYLIGHT
BEGIN:STANDARD
TZOFFSETFROM:+0200
TZOFFSETTO:+0100
TZNAME:CET
DTSTART:20181028T010000
END:STANDARD
BEGIN:DAYLIGHT
TZOFFSETFROM:+0100
TZOFFSETTO:+0200
TZNAME:CEST
DTSTART:20190331T010000
END:DAYLIGHT
BEGIN:STANDARD
TZOFFSETFROM:+0200
TZOFFSETTO:+0100
TZNAME:CET
DTSTART:20191027T010000
END:STANDARD
END:VTIMEZONE
BEGIN:VEVENT
DTSTART;TZID=Europe/Paris:20181211T190000
DTEND;TZID=Europe/Paris:20181211T200000
DTSTAMP:20260419T180900
CREATED:20181203T163037Z
LAST-MODIFIED:20181203T163037Z
UID:3794-1544554800-1544558400@www.villers-semeuse.fr
SUMMARY:Réunion de quartier - CCQ n° 1 - Semeuse
DESCRIPTION:La réunion aura lieu le mardi 11 décembre 2018 à 19h00 en salle des fêtes n°3. \nCes réunions sont ouvertes à l’ensemble des habitants du quartier sans condition. Faites entendre votre voix\, nous comptons sur vous. En cas d’indisponibilité\, nous acceptons les demandes ou remarques\, idées écrites.
URL:https://www.villers-semeuse.fr/event/reunion-de-quartier-ccq-n-1-semeuse
LOCATION:Salle des Fêtes\, 13 rue Ferdinand Buisson\, Villers-Semeuse\, Ardennes\, 08000\, France
CATEGORIES:Evénements,Ville de Villers-Semeuse
ATTACH;FMTTYPE=image/png:https://www.villers-semeuse.fr/wp-content/uploads/2018/12/ccq-1-image-bannire-02-e1543854601422.png
ORGANIZER;CN="Ville de Villers-Semeuse":MAILTO:communication@villers-semeuse.fr
END:VEVENT
END:VCALENDAR