BEGIN:VCALENDAR
VERSION:2.0
PRODID:-//Commune de Villers-Semeuse - ECPv6.15.20//NONSGML v1.0//EN
CALSCALE:GREGORIAN
METHOD:PUBLISH
X-ORIGINAL-URL:https://www.villers-semeuse.fr
X-WR-CALDESC:Évènements pour Commune de Villers-Semeuse
REFRESH-INTERVAL;VALUE=DURATION:PT1H
X-Robots-Tag:noindex
X-PUBLISHED-TTL:PT1H
BEGIN:VTIMEZONE
TZID:Europe/Paris
BEGIN:DAYLIGHT
TZOFFSETFROM:+0100
TZOFFSETTO:+0200
TZNAME:CEST
DTSTART:20170326T010000
END:DAYLIGHT
BEGIN:STANDARD
TZOFFSETFROM:+0200
TZOFFSETTO:+0100
TZNAME:CET
DTSTART:20171029T010000
END:STANDARD
BEGIN:DAYLIGHT
TZOFFSETFROM:+0100
TZOFFSETTO:+0200
TZNAME:CEST
DTSTART:20180325T010000
END:DAYLIGHT
BEGIN:STANDARD
TZOFFSETFROM:+0200
TZOFFSETTO:+0100
TZNAME:CET
DTSTART:20181028T010000
END:STANDARD
BEGIN:DAYLIGHT
TZOFFSETFROM:+0100
TZOFFSETTO:+0200
TZNAME:CEST
DTSTART:20190331T010000
END:DAYLIGHT
BEGIN:STANDARD
TZOFFSETFROM:+0200
TZOFFSETTO:+0100
TZNAME:CET
DTSTART:20191027T010000
END:STANDARD
END:VTIMEZONE
BEGIN:VEVENT
DTSTART;TZID=Europe/Paris:20181018T120000
DTEND;TZID=Europe/Paris:20181018T160000
DTSTAMP:20260419T214249
CREATED:20180111T084902Z
LAST-MODIFIED:20180111T084902Z
UID:2034-1539864000-1539878400@www.villers-semeuse.fr
SUMMARY:Repas de la municipalité pour les seniors
DESCRIPTION:Plus d’information prochainement !
URL:https://www.villers-semeuse.fr/event/repas-de-municipalite-seniors-2
LOCATION:Salle des Fêtes\, 13 rue Ferdinand Buisson\, Villers-Semeuse\, Ardennes\, 08000\, France
CATEGORIES:CCAS de Villers-Semeuse,Ville de Villers-Semeuse
ORGANIZER;CN="Ville de Villers-Semeuse":MAILTO:communication@villers-semeuse.fr
END:VEVENT
END:VCALENDAR