BEGIN:VCALENDAR
VERSION:2.0
PRODID:-//Commune de Villers-Semeuse - ECPv6.15.20//NONSGML v1.0//EN
CALSCALE:GREGORIAN
METHOD:PUBLISH
X-ORIGINAL-URL:https://www.villers-semeuse.fr
X-WR-CALDESC:Évènements pour Commune de Villers-Semeuse
REFRESH-INTERVAL;VALUE=DURATION:PT1H
X-Robots-Tag:noindex
X-PUBLISHED-TTL:PT1H
BEGIN:VTIMEZONE
TZID:Europe/Paris
BEGIN:DAYLIGHT
TZOFFSETFROM:+0100
TZOFFSETTO:+0200
TZNAME:CEST
DTSTART:20170326T010000
END:DAYLIGHT
BEGIN:STANDARD
TZOFFSETFROM:+0200
TZOFFSETTO:+0100
TZNAME:CET
DTSTART:20171029T010000
END:STANDARD
BEGIN:DAYLIGHT
TZOFFSETFROM:+0100
TZOFFSETTO:+0200
TZNAME:CEST
DTSTART:20180325T010000
END:DAYLIGHT
BEGIN:STANDARD
TZOFFSETFROM:+0200
TZOFFSETTO:+0100
TZNAME:CET
DTSTART:20181028T010000
END:STANDARD
BEGIN:DAYLIGHT
TZOFFSETFROM:+0100
TZOFFSETTO:+0200
TZNAME:CEST
DTSTART:20190331T010000
END:DAYLIGHT
BEGIN:STANDARD
TZOFFSETFROM:+0200
TZOFFSETTO:+0100
TZNAME:CET
DTSTART:20191027T010000
END:STANDARD
END:VTIMEZONE
BEGIN:VEVENT
DTSTART;TZID=Europe/Paris:20180707T140000
DTEND;TZID=Europe/Paris:20180817T170000
DTSTAMP:20260420T005639
CREATED:20180702T082643Z
LAST-MODIFIED:20180702T082643Z
UID:3007-1530972000-1534525200@www.villers-semeuse.fr
SUMMARY:Tous à la p(l)age
DESCRIPTION:Tous à la p(l)age c’est tout l’été à la médiathèque !\nCet été\, la médiathèque vous propose une animation exceptionnelle : « Tous à la pLage » : c’est 160m² de sable dans la cour de la médiathèque avec des animations et des activités à l’extérieur. Lecture\, musique\, cuisine\, jeux… nous vous attendons nombreux pour passer l’été en votre compagnie ! \nPROGRAMME :\nJUILLET 2018 : « PARTIR EN LIVRE »\nSAMEDI 7 JUILLET 2018 À 14H00 : Ouverture de « Tous à la p(l)age » au public\nMERCREDI 11 JUILLET 2018 À 15H00 : Sieste acoustique pour les enfants\nSAMEDI 21 JUILLET 2018 À 15H00 : Heure du conte « C’est l’été ! »\nMERCREDI 25 JUILLET 2018 À 14H30 : Atelier de cuisine pour enfants « spécial été !» sur inscription\, limité à 8 enfants (à partir de 7 ans) \nAOÛT 2018 : « MUSIQUE »\nDU 1ER AU 14 AOÛT 2018 : Instruments à découvrir : batterie électronique\, synthétiseur\, basse\, guitare électrique\, tables de mixage DJ en accès libre.\nJEUDI 9 AOÛT 2018 À 14H30 : Atelier de cuisine pour enfants « spécial été ! » sur inscription\, limité à 8 enfants (à partir de 7 ans)\nVENDREDI 10 AOÛT 2018 À 14H30 ET 15H30 : 2 sessions d’initation au DJing sur inscription\, limité à 8 enfants (à partir de 7 ans)\nMARDI 14 AOÛT 2018 À 20H30 : Concert « feu de camp »\nJEUDI 16 AOÛT 2018 À 17H00 : Atelier de cuisine pour adultes « spécial été ! » sur inscription\, limité à 8 adultes
URL:https://www.villers-semeuse.fr/event/tous-a-la-plage
LOCATION:Médiathèque\, 6 Rue Gambetta\, Villers-Semeuse\, Ardennes\, 08000\, France
CATEGORIES:Médiathèque,Ville de Villers-Semeuse
ATTACH;FMTTYPE=image/png:https://www.villers-semeuse.fr/wp-content/uploads/2018/07/mediatheque_tousalaplage-02-e1530519937272.png
ORGANIZER;CN="M%C3%A9diath%C3%A8que":MAILTO:mediatheque@villers-semeuse.fr
END:VEVENT
END:VCALENDAR