BEGIN:VCALENDAR
VERSION:2.0
PRODID:-//Commune de Villers-Semeuse - ECPv6.15.20//NONSGML v1.0//EN
CALSCALE:GREGORIAN
METHOD:PUBLISH
X-WR-CALNAME:Commune de Villers-Semeuse
X-ORIGINAL-URL:https://www.villers-semeuse.fr
X-WR-CALDESC:Évènements pour Commune de Villers-Semeuse
REFRESH-INTERVAL;VALUE=DURATION:PT1H
X-Robots-Tag:noindex
X-PUBLISHED-TTL:PT1H
BEGIN:VTIMEZONE
TZID:Europe/Paris
BEGIN:DAYLIGHT
TZOFFSETFROM:+0100
TZOFFSETTO:+0200
TZNAME:CEST
DTSTART:20170326T010000
END:DAYLIGHT
BEGIN:STANDARD
TZOFFSETFROM:+0200
TZOFFSETTO:+0100
TZNAME:CET
DTSTART:20171029T010000
END:STANDARD
BEGIN:DAYLIGHT
TZOFFSETFROM:+0100
TZOFFSETTO:+0200
TZNAME:CEST
DTSTART:20180325T010000
END:DAYLIGHT
BEGIN:STANDARD
TZOFFSETFROM:+0200
TZOFFSETTO:+0100
TZNAME:CET
DTSTART:20181028T010000
END:STANDARD
BEGIN:DAYLIGHT
TZOFFSETFROM:+0100
TZOFFSETTO:+0200
TZNAME:CEST
DTSTART:20190331T010000
END:DAYLIGHT
BEGIN:STANDARD
TZOFFSETFROM:+0200
TZOFFSETTO:+0100
TZNAME:CET
DTSTART:20191027T010000
END:STANDARD
END:VTIMEZONE
BEGIN:VEVENT
DTSTART;TZID=Europe/Paris:20180701T110000
DTEND;TZID=Europe/Paris:20180701T130000
DTSTAMP:20260420T022404
CREATED:20180510T200643Z
LAST-MODIFIED:20180625T073100Z
UID:2704-1530442800-1530450000@www.villers-semeuse.fr
SUMMARY:La Villersoise gourmande\, marche gourmande à Villers-Semeuse
DESCRIPTION:Découverte\, gourmandise et marche au programme le 1er juillet.\nLa municipalité va organiser le dimanche 1er juillet la première édition de La Villersoise gourmande. Cette journée sera placée sous le signe du terroir et de la marche.\nÀ partir de 11h00\, le départ sera donné dans la cour de l’école du Plateau pour un parcours de 10 kilomètres mêlant découverte de la commune et histoire\, le tout accompagné d’une pause gourmande tous les 3 kilomètres environ. Cette journée permettra de mettre en valeur le terroir ardennais tout en développant l’activité physique de tous. Chiens autorisés en laisse.\nPas de chrono\, pas de classement : Le tout est de prendre du plaisir en marchant à son rythme ! Assurément\, Villers-Semeuse est une ville sportive… et gourmande ! \n[vc_row][vc_column][vc_btn title= »Télécharger le flyer d’inscription à la Villersoise gourmande » color= »info » i_icon_fontawesome= »fa fa-download » add_icon= »true » link= »url:https%3A%2F%2Fwww.villers-semeuse.fr%2Fwp-content%2Fuploads%2F2018%2F05%2Fflyers_villersoise_gourmande.pdf||target:%20_blank| »][/vc_column][/vc_row]\nLe parcours comporte 6 étapes gourmandes :\nMENU ADULTE :\nÉtape 1 – petits canapés gourmands pour s’échauffer\nÉtape 2 – assiette ardennaise (boudin blanc\, lardons fins et salade verte)\nÉtape 3 – cuissot de porcelet et ses pommes de terre\nÉtape 4 – duo de fromages sur son lit de salade\nÉtape 5 – tiramisu du chef\nÉtape 6 – tarte au sucre et café \nMENU ENFANT\nÉtape 1 – petits canapés gourmands pour s’échauffer\nÉtape 2 – assiette de crudités maison\nÉtape 3 – cordon bleu et ses pommes de terre rissolées\nÉtape 4 – petit fromage sur son lit de salade\nÉtape 5 – mousse au chocolat\nÉtape 6 – tarte au sucre \nPrix : 18 € (comprenant le menu\, l’eau\, le guide du bon marcheur)\, menu enfant : 10 € \nInformations et réservations :\nMairie de Villers Semeuse\, 11 rue Ferdinand Buisson – 08000 Villers-Semeuse – Tél. : 03 24 33 77 20 \nRèglement en espèce ou par chèque à l’ordre de : « VILLERS-SEMEUSE ÉVÉNEMENT » \nNous contacter en cas d’intolérance alimentaire\, nous pourrons faire évoluer le menu. \nPensez à ramener vos couverts !
URL:https://www.villers-semeuse.fr/event/la-villersoise-gourmande-marche-gourmande-a-villers-semeuse
LOCATION:Ecole Le plateau\, 9 rue Ferdinand Buisson\, Villers-Semeuse\, 08000\, France
CATEGORIES:Evénements,Ville de Villers-Semeuse
ATTACH;FMTTYPE=image/png:https://www.villers-semeuse.fr/wp-content/uploads/2018/05/gourmande_villersoise_2018_plan-de-travail-1-e1525982262775.png
ORGANIZER;CN="Ville de Villers-Semeuse":MAILTO:communication@villers-semeuse.fr
END:VEVENT
END:VCALENDAR