BEGIN:VCALENDAR
VERSION:2.0
PRODID:-//Commune de Villers-Semeuse - ECPv6.15.20//NONSGML v1.0//EN
CALSCALE:GREGORIAN
METHOD:PUBLISH
X-WR-CALNAME:Commune de Villers-Semeuse
X-ORIGINAL-URL:https://www.villers-semeuse.fr
X-WR-CALDESC:Évènements pour Commune de Villers-Semeuse
REFRESH-INTERVAL;VALUE=DURATION:PT1H
X-Robots-Tag:noindex
X-PUBLISHED-TTL:PT1H
BEGIN:VTIMEZONE
TZID:Europe/Paris
BEGIN:DAYLIGHT
TZOFFSETFROM:+0100
TZOFFSETTO:+0200
TZNAME:CEST
DTSTART:20170326T010000
END:DAYLIGHT
BEGIN:STANDARD
TZOFFSETFROM:+0200
TZOFFSETTO:+0100
TZNAME:CET
DTSTART:20171029T010000
END:STANDARD
BEGIN:DAYLIGHT
TZOFFSETFROM:+0100
TZOFFSETTO:+0200
TZNAME:CEST
DTSTART:20180325T010000
END:DAYLIGHT
BEGIN:STANDARD
TZOFFSETFROM:+0200
TZOFFSETTO:+0100
TZNAME:CET
DTSTART:20181028T010000
END:STANDARD
BEGIN:DAYLIGHT
TZOFFSETFROM:+0100
TZOFFSETTO:+0200
TZNAME:CEST
DTSTART:20190331T010000
END:DAYLIGHT
BEGIN:STANDARD
TZOFFSETFROM:+0200
TZOFFSETTO:+0100
TZNAME:CET
DTSTART:20191027T010000
END:STANDARD
END:VTIMEZONE
BEGIN:VEVENT
DTSTART;TZID=Europe/Paris:20180609T090000
DTEND;TZID=Europe/Paris:20180609T120000
DTSTAMP:20260420T041347
CREATED:20180510T201400Z
LAST-MODIFIED:20180514T150259Z
UID:2715-1528534800-1528545600@www.villers-semeuse.fr
SUMMARY:Nettoyage de printemps
DESCRIPTION:L’arrivée des beaux jours est l’occasion d’organiser une opération « Nettoyage de Printemps » pour réaffirmer l’importance de la propreté de notre cadre vie. C’est aussi l’occasion d’une rencontre qui mobilisent les citoyens\, les enfants\, les élus\, le conseil municipal jeunes et des agents des services techniques. Cette démarche remplace l’opération « Nettoyons la nature » mais le contexte et l’objectif poursuivis restent les mêmes.\nRendez-vous le samedi 9 juin 2018 à 9h00 à la médiathèque.\nInscription auprès du service communication en mairie ou en ligne sur www.villers-semeuse.fr \n[vc_row][vc_column]\n\n  \n\n\n\nInscription au repas offert par la municipalité aux seniors - 9 novembre 2019\n \n\n	\n		MonsieurMadame\n		 \n	\n	\n		\n		 \n	\n\n\n	\n		\n		 \n	\n\n\n	\n		\n		 \n	\n	\n		\n		 \n	\n\n\n	 Date de naissance\n\n	 \n\n\n	\n	 \n\nJe m'inscris au repas offert par la municipalité aux seniors  - 9 novembre 2019 - organisé par le CCAS de Villers-Semeuse.\n \n\n	J'accepte les termes et conditions énoncés dans la page politique de confidentialité concernant la collecte d'informations\n[cf7sr-simple-recaptcha]\n	\n\n	\n		\n		\n		\n		\n	\n\n\n	 \n	\n	 \n\n\n\n[/vc_column][/vc_row]
URL:https://www.villers-semeuse.fr/event/nettoyage-de-printemps
LOCATION:Médiathèque\, 6 Rue Gambetta\, Villers-Semeuse\, Ardennes\, 08000\, France
CATEGORIES:Evénements,Ville de Villers-Semeuse
ATTACH;FMTTYPE=image/png:https://www.villers-semeuse.fr/wp-content/uploads/2018/05/nettoyage-de-printemps-01-e1526310172131.png
ORGANIZER;CN="Ville de Villers-Semeuse":MAILTO:communication@villers-semeuse.fr
END:VEVENT
END:VCALENDAR