BEGIN:VCALENDAR
VERSION:2.0
PRODID:-//Commune de Villers-Semeuse - ECPv6.15.20//NONSGML v1.0//EN
CALSCALE:GREGORIAN
METHOD:PUBLISH
X-WR-CALNAME:Commune de Villers-Semeuse
X-ORIGINAL-URL:https://www.villers-semeuse.fr
X-WR-CALDESC:Évènements pour Commune de Villers-Semeuse
REFRESH-INTERVAL;VALUE=DURATION:PT1H
X-Robots-Tag:noindex
X-PUBLISHED-TTL:PT1H
BEGIN:VTIMEZONE
TZID:Europe/Paris
BEGIN:DAYLIGHT
TZOFFSETFROM:+0100
TZOFFSETTO:+0200
TZNAME:CEST
DTSTART:20160327T010000
END:DAYLIGHT
BEGIN:STANDARD
TZOFFSETFROM:+0200
TZOFFSETTO:+0100
TZNAME:CET
DTSTART:20161030T010000
END:STANDARD
BEGIN:DAYLIGHT
TZOFFSETFROM:+0100
TZOFFSETTO:+0200
TZNAME:CEST
DTSTART:20170326T010000
END:DAYLIGHT
BEGIN:STANDARD
TZOFFSETFROM:+0200
TZOFFSETTO:+0100
TZNAME:CET
DTSTART:20171029T010000
END:STANDARD
BEGIN:DAYLIGHT
TZOFFSETFROM:+0100
TZOFFSETTO:+0200
TZNAME:CEST
DTSTART:20180325T010000
END:DAYLIGHT
BEGIN:STANDARD
TZOFFSETFROM:+0200
TZOFFSETTO:+0100
TZNAME:CET
DTSTART:20181028T010000
END:STANDARD
END:VTIMEZONE
BEGIN:VEVENT
DTSTART;TZID=Europe/Paris:20171215T090000
DTEND;TZID=Europe/Paris:20171215T160000
DTSTAMP:20260420T141603
CREATED:20171130T002511Z
LAST-MODIFIED:20171211T171705Z
UID:1461-1513328400-1513353600@www.villers-semeuse.fr
SUMMARY:Distribution de la corbeille festive aux anciens
DESCRIPTION:La distribution de la corbeille festive ou du bon d’achat des seniors de plus de 65 ans se déroulera le vendredi 15 décembre 2017 de 9h00 à 12h00 et de 13h30 à 16h00 à l’A.L.S.H.\nLes personnes ayant fêté leur 65 ans cette année\, recevront un coupon à remplir afin de connaître leur souhait. Pour les seniors âgés de 66 ans et plus\, le colis sera celui demandé les années précédentes.
URL:https://www.villers-semeuse.fr/event/distribution-de-corbeille-festive-aux-anciens
LOCATION:A.L.S.H.\, 11 rue Ferdinand Buisson\, Villers-Semeuse\, Ardennes\, 08000\, France
CATEGORIES:CCAS de Villers-Semeuse,Ville de Villers-Semeuse
END:VEVENT
END:VCALENDAR