BEGIN:VCALENDAR
VERSION:2.0
PRODID:-//Commune de Villers-Semeuse - ECPv6.15.20//NONSGML v1.0//EN
CALSCALE:GREGORIAN
METHOD:PUBLISH
X-ORIGINAL-URL:https://www.villers-semeuse.fr
X-WR-CALDESC:Évènements pour Commune de Villers-Semeuse
REFRESH-INTERVAL;VALUE=DURATION:PT1H
X-Robots-Tag:noindex
X-PUBLISHED-TTL:PT1H
BEGIN:VTIMEZONE
TZID:Europe/Paris
BEGIN:DAYLIGHT
TZOFFSETFROM:+0100
TZOFFSETTO:+0200
TZNAME:CEST
DTSTART:20160327T010000
END:DAYLIGHT
BEGIN:STANDARD
TZOFFSETFROM:+0200
TZOFFSETTO:+0100
TZNAME:CET
DTSTART:20161030T010000
END:STANDARD
BEGIN:DAYLIGHT
TZOFFSETFROM:+0100
TZOFFSETTO:+0200
TZNAME:CEST
DTSTART:20170326T010000
END:DAYLIGHT
BEGIN:STANDARD
TZOFFSETFROM:+0200
TZOFFSETTO:+0100
TZNAME:CET
DTSTART:20171029T010000
END:STANDARD
BEGIN:DAYLIGHT
TZOFFSETFROM:+0100
TZOFFSETTO:+0200
TZNAME:CEST
DTSTART:20180325T010000
END:DAYLIGHT
BEGIN:STANDARD
TZOFFSETFROM:+0200
TZOFFSETTO:+0100
TZNAME:CET
DTSTART:20181028T010000
END:STANDARD
END:VTIMEZONE
BEGIN:VEVENT
DTSTART;VALUE=DATE:20171213
DTEND;VALUE=DATE:20171214
DTSTAMP:20260420T141825
CREATED:20171130T002207Z
LAST-MODIFIED:20171130T002207Z
UID:1459-1513123200-1513209599@www.villers-semeuse.fr
SUMMARY:Goûter de Noël des anciens
DESCRIPTION:
URL:https://www.villers-semeuse.fr/event/gouter-de-noel-anciens
LOCATION:Salle des Fêtes\, 13 rue Ferdinand Buisson\, Villers-Semeuse\, Ardennes\, 08000\, France
CATEGORIES:Ville de Villers-Semeuse
ORGANIZER;CN="Ville de Villers-Semeuse":MAILTO:communication@villers-semeuse.fr
END:VEVENT
END:VCALENDAR