BEGIN:VCALENDAR
VERSION:2.0
PRODID:-//Commune de Villers-Semeuse - ECPv6.15.20//NONSGML v1.0//EN
CALSCALE:GREGORIAN
METHOD:PUBLISH
X-WR-CALNAME:Commune de Villers-Semeuse
X-ORIGINAL-URL:https://www.villers-semeuse.fr
X-WR-CALDESC:Évènements pour Commune de Villers-Semeuse
REFRESH-INTERVAL;VALUE=DURATION:PT1H
X-Robots-Tag:noindex
X-PUBLISHED-TTL:PT1H
BEGIN:VTIMEZONE
TZID:Europe/Paris
BEGIN:DAYLIGHT
TZOFFSETFROM:+0100
TZOFFSETTO:+0200
TZNAME:CEST
DTSTART:20160327T010000
END:DAYLIGHT
BEGIN:STANDARD
TZOFFSETFROM:+0200
TZOFFSETTO:+0100
TZNAME:CET
DTSTART:20161030T010000
END:STANDARD
BEGIN:DAYLIGHT
TZOFFSETFROM:+0100
TZOFFSETTO:+0200
TZNAME:CEST
DTSTART:20170326T010000
END:DAYLIGHT
BEGIN:STANDARD
TZOFFSETFROM:+0200
TZOFFSETTO:+0100
TZNAME:CET
DTSTART:20171029T010000
END:STANDARD
BEGIN:DAYLIGHT
TZOFFSETFROM:+0100
TZOFFSETTO:+0200
TZNAME:CEST
DTSTART:20180325T010000
END:DAYLIGHT
BEGIN:STANDARD
TZOFFSETFROM:+0200
TZOFFSETTO:+0100
TZNAME:CET
DTSTART:20181028T010000
END:STANDARD
END:VTIMEZONE
BEGIN:VEVENT
DTSTART;VALUE=DATE:20170621
DTEND;VALUE=DATE:20170622
DTSTAMP:20260420T232729
CREATED:20171114T140258Z
LAST-MODIFIED:20171208T071746Z
UID:1138-1498003200-1498089599@www.villers-semeuse.fr
SUMMARY:Extinction de l'éclairage public
DESCRIPTION:Pourquoi éteindre la nuit ?\n\nAvant tout pour une économie d’énergie et budgétaire : la garantie d’une diminution de CO2 et des économies significatives pouvant être réinvesties plus utilement. Pour la commune\, cela représente 40% d’économie de l’éclairage public sur une année soit près de 20 000 € par an.\nRéduction des nuisances : moins de rassemblements nocturnes\, l’accès de personnes mal intentionnées est rendu ainsi plus difficile du fait du manque de lumière. – Meilleure qualité de sommeil : moins de lumière intrusive dans les logements.\nProtection de la faune : cette initiative favorise le développement des espèces lumifiges et évite la désorientation des oiseaux migrateurs.\nSécurité routière : celle-ci est renforcée avec des véhicules qui ralentissent et les automobilistes sont plus prudents.\n\n  \nAttention aux préjugés sur l’extinction de l’éclairage public :\n\nIl n’a aucun effet sur la hausse de la délinquance la nuit\, au contraire\, les communes retrouvent une tranquillité grâce à la réduction des rassemblements\, des dégradations de biens et aux tapages nocturnes.\nL’extinction de l’éclairage public ne favorise pas les cambriolages. Un cambrioleur est détectable plus facilement lorsqu’il est plongé dans l’obscurité (détection des lumières qu’il utilise). Par exemple: la lumière est utile au cambrioleur pour l’aider à voir où il pourra passer\, ce qu’il y a à voler et passer inaperçu dans un flot de lumière. En Essonne\, les chiffres de la gendarmerie montrent qu’il n’y a pas eu plus de vols après extinction de l’éclairage\, au contraire certains ont diminué.\n\n  \nNotre commune a donc décidé de s’engager dans cette démarche qui préserve notre qualité de vie et permet de faire des économies. Nous nous engageons à un suivi de cette mesure tout au long de l’année à venir. De même\, nous allons ins
URL:https://www.villers-semeuse.fr/event/extinction-de-leclairage-public
CATEGORIES:Ville de Villers-Semeuse
ATTACH;FMTTYPE=image/png:https://www.villers-semeuse.fr/wp-content/uploads/2017/11/extinctioneclairage.png
END:VEVENT
END:VCALENDAR