BEGIN:VCALENDAR
VERSION:2.0
PRODID:-//Commune de Villers-Semeuse - ECPv6.15.20//NONSGML v1.0//EN
CALSCALE:GREGORIAN
METHOD:PUBLISH
X-ORIGINAL-URL:https://www.villers-semeuse.fr
X-WR-CALDESC:Évènements pour Commune de Villers-Semeuse
REFRESH-INTERVAL;VALUE=DURATION:PT1H
X-Robots-Tag:noindex
X-PUBLISHED-TTL:PT1H
BEGIN:VTIMEZONE
TZID:Europe/Paris
BEGIN:DAYLIGHT
TZOFFSETFROM:+0100
TZOFFSETTO:+0200
TZNAME:CEST
DTSTART:20170326T010000
END:DAYLIGHT
BEGIN:STANDARD
TZOFFSETFROM:+0200
TZOFFSETTO:+0100
TZNAME:CET
DTSTART:20171029T010000
END:STANDARD
BEGIN:DAYLIGHT
TZOFFSETFROM:+0100
TZOFFSETTO:+0200
TZNAME:CEST
DTSTART:20180325T010000
END:DAYLIGHT
BEGIN:STANDARD
TZOFFSETFROM:+0200
TZOFFSETTO:+0100
TZNAME:CET
DTSTART:20181028T010000
END:STANDARD
BEGIN:DAYLIGHT
TZOFFSETFROM:+0100
TZOFFSETTO:+0200
TZNAME:CEST
DTSTART:20190331T010000
END:DAYLIGHT
BEGIN:STANDARD
TZOFFSETFROM:+0200
TZOFFSETTO:+0100
TZNAME:CET
DTSTART:20191027T010000
END:STANDARD
END:VTIMEZONE
BEGIN:VEVENT
DTSTART;TZID=Europe/Paris:20180701T110000
DTEND;TZID=Europe/Paris:20180701T130000
DTSTAMP:20260420T005311
CREATED:20180510T200643Z
LAST-MODIFIED:20180625T073100Z
UID:2704-1530442800-1530450000@www.villers-semeuse.fr
SUMMARY:La Villersoise gourmande\, marche gourmande à Villers-Semeuse
DESCRIPTION:Découverte\, gourmandise et marche au programme le 1er juillet.\nLa municipalité va organiser le dimanche 1er juillet la première édition de La Villersoise gourmande. Cette journée sera placée sous le signe du terroir et de la marche.\nÀ partir de 11h00\, le départ sera donné dans la cour de l’école du Plateau pour un parcours de 10 kilomètres mêlant découverte de la commune et histoire\, le tout accompagné d’une pause gourmande tous les 3 kilomètres environ. Cette journée permettra de mettre en valeur le terroir ardennais tout en développant l’activité physique de tous. Chiens autorisés en laisse.\nPas de chrono\, pas de classement : Le tout est de prendre du plaisir en marchant à son rythme ! Assurément\, Villers-Semeuse est une ville sportive… et gourmande ! \n[vc_row][vc_column][vc_btn title= »Télécharger le flyer d’inscription à la Villersoise gourmande » color= »info » i_icon_fontawesome= »fa fa-download » add_icon= »true » link= »url:https%3A%2F%2Fwww.villers-semeuse.fr%2Fwp-content%2Fuploads%2F2018%2F05%2Fflyers_villersoise_gourmande.pdf||target:%20_blank| »][/vc_column][/vc_row]\nLe parcours comporte 6 étapes gourmandes :\nMENU ADULTE :\nÉtape 1 – petits canapés gourmands pour s’échauffer\nÉtape 2 – assiette ardennaise (boudin blanc\, lardons fins et salade verte)\nÉtape 3 – cuissot de porcelet et ses pommes de terre\nÉtape 4 – duo de fromages sur son lit de salade\nÉtape 5 – tiramisu du chef\nÉtape 6 – tarte au sucre et café \nMENU ENFANT\nÉtape 1 – petits canapés gourmands pour s’échauffer\nÉtape 2 – assiette de crudités maison\nÉtape 3 – cordon bleu et ses pommes de terre rissolées\nÉtape 4 – petit fromage sur son lit de salade\nÉtape 5 – mousse au chocolat\nÉtape 6 – tarte au sucre \nPrix : 18 € (comprenant le menu\, l’eau\, le guide du bon marcheur)\, menu enfant : 10 € \nInformations et réservations :\nMairie de Villers Semeuse\, 11 rue Ferdinand Buisson – 08000 Villers-Semeuse – Tél. : 03 24 33 77 20 \nRèglement en espèce ou par chèque à l’ordre de : « VILLERS-SEMEUSE ÉVÉNEMENT » \nNous contacter en cas d’intolérance alimentaire\, nous pourrons faire évoluer le menu. \nPensez à ramener vos couverts !
URL:https://www.villers-semeuse.fr/event/la-villersoise-gourmande-marche-gourmande-a-villers-semeuse
LOCATION:Ecole Le plateau\, 9 rue Ferdinand Buisson\, Villers-Semeuse\, 08000\, France
CATEGORIES:Evénements,Ville de Villers-Semeuse
ATTACH;FMTTYPE=image/png:https://www.villers-semeuse.fr/wp-content/uploads/2018/05/gourmande_villersoise_2018_plan-de-travail-1-e1525982262775.png
ORGANIZER;CN="Ville de Villers-Semeuse":MAILTO:communication@villers-semeuse.fr
END:VEVENT
BEGIN:VEVENT
DTSTART;TZID=Europe/Paris:20180705T203000
DTEND;TZID=Europe/Paris:20180705T223000
DTSTAMP:20260420T005311
CREATED:20180130T103946Z
LAST-MODIFIED:20180702T143359Z
UID:2285-1530822600-1530829800@www.villers-semeuse.fr
SUMMARY:Conseil municipal
DESCRIPTION:Le prochain conseil municipal se tiendra le jeudi 5 juillet 2018 à 20h30 en mairie. Il est ouvert à tous. \nOrdre du jour : \n1) FINANCES\n– Décision modificative du Budget Primitif de La Sayette 2018\n– Modification de la délibération d’affectation de résultat\n– Attribution de la subvention au C.C.A.S. \n2) RESSOURCES HUMAINES\n– Adoption de la création du Comité Technique\n– Approbation du Document Unique\n– Modification de la durée hebdomadaire de l’emploi d’assistant R.H. et comptabilité\n– Modification de l’emploi d’adjoint d’animation principal de 2ème classe en adjoint d’animation principal de 1ère classe\n– Création d’un emploi de chargé de mission communication – Ntic ( Nouvelles technologies de l’information et de la communication ) – protocole – relations presse – webmestre\n– Création d’emplois d’accroissement temporaire de restauration scolaire pour la rentrée 2018 \n3) AFFAIRES GÉNÉRALES\n– Désignation des administrés susceptibles d’être jurés d’assises \n4) INTERCOMMUNALITÉ\n– Approbation de la convention de partenariat à l’attribution de CEE
URL:https://www.villers-semeuse.fr/event/conseil-municipal-4
LOCATION:Salle du conseil municipal – Mairie\, 11 rue Ferdinand Buisson\, VILLERS-SEMEUSE\, 08000\, France
CATEGORIES:Ville de Villers-Semeuse
ORGANIZER;CN="Ville de Villers-Semeuse":MAILTO:communication@villers-semeuse.fr
END:VEVENT
BEGIN:VEVENT
DTSTART;TZID=Europe/Paris:20180707T140000
DTEND;TZID=Europe/Paris:20180817T170000
DTSTAMP:20260420T005311
CREATED:20180702T082643Z
LAST-MODIFIED:20180702T082643Z
UID:3007-1530972000-1534525200@www.villers-semeuse.fr
SUMMARY:Tous à la p(l)age
DESCRIPTION:Tous à la p(l)age c’est tout l’été à la médiathèque !\nCet été\, la médiathèque vous propose une animation exceptionnelle : « Tous à la pLage » : c’est 160m² de sable dans la cour de la médiathèque avec des animations et des activités à l’extérieur. Lecture\, musique\, cuisine\, jeux… nous vous attendons nombreux pour passer l’été en votre compagnie ! \nPROGRAMME :\nJUILLET 2018 : « PARTIR EN LIVRE »\nSAMEDI 7 JUILLET 2018 À 14H00 : Ouverture de « Tous à la p(l)age » au public\nMERCREDI 11 JUILLET 2018 À 15H00 : Sieste acoustique pour les enfants\nSAMEDI 21 JUILLET 2018 À 15H00 : Heure du conte « C’est l’été ! »\nMERCREDI 25 JUILLET 2018 À 14H30 : Atelier de cuisine pour enfants « spécial été !» sur inscription\, limité à 8 enfants (à partir de 7 ans) \nAOÛT 2018 : « MUSIQUE »\nDU 1ER AU 14 AOÛT 2018 : Instruments à découvrir : batterie électronique\, synthétiseur\, basse\, guitare électrique\, tables de mixage DJ en accès libre.\nJEUDI 9 AOÛT 2018 À 14H30 : Atelier de cuisine pour enfants « spécial été ! » sur inscription\, limité à 8 enfants (à partir de 7 ans)\nVENDREDI 10 AOÛT 2018 À 14H30 ET 15H30 : 2 sessions d’initation au DJing sur inscription\, limité à 8 enfants (à partir de 7 ans)\nMARDI 14 AOÛT 2018 À 20H30 : Concert « feu de camp »\nJEUDI 16 AOÛT 2018 À 17H00 : Atelier de cuisine pour adultes « spécial été ! » sur inscription\, limité à 8 adultes
URL:https://www.villers-semeuse.fr/event/tous-a-la-plage
LOCATION:Médiathèque\, 6 Rue Gambetta\, Villers-Semeuse\, Ardennes\, 08000\, France
CATEGORIES:Médiathèque,Ville de Villers-Semeuse
ATTACH;FMTTYPE=image/png:https://www.villers-semeuse.fr/wp-content/uploads/2018/07/mediatheque_tousalaplage-02-e1530519937272.png
ORGANIZER;CN="M%C3%A9diath%C3%A8que":MAILTO:mediatheque@villers-semeuse.fr
END:VEVENT
BEGIN:VEVENT
DTSTART;VALUE=DATE:20180713
DTEND;VALUE=DATE:20180714
DTSTAMP:20260420T005311
CREATED:20180129T124826Z
LAST-MODIFIED:20180706T174702Z
UID:2261-1531440000-1531526399@www.villers-semeuse.fr
SUMMARY:Fête nationale 2018
DESCRIPTION:
URL:https://www.villers-semeuse.fr/event/fete-nationale-2018
LOCATION:COSEC – Complexe sportif Roger Marche\, Route nationale\, Villers-Semeuse\, 08000
CATEGORIES:Ville de Villers-Semeuse
ATTACH;FMTTYPE=image/png:https://www.villers-semeuse.fr/wp-content/uploads/2018/01/sans-titre-1_plan-de-travail-1-e1530899204462.png
ORGANIZER;CN="Ville de Villers-Semeuse":MAILTO:communication@villers-semeuse.fr
END:VEVENT
BEGIN:VEVENT
DTSTART;TZID=Europe/Paris:20180714T103000
DTEND;TZID=Europe/Paris:20180714T120000
DTSTAMP:20260420T005311
CREATED:20180129T124732Z
LAST-MODIFIED:20180702T081525Z
UID:2258-1531564200-1531569600@www.villers-semeuse.fr
SUMMARY:Cérémonie commémorative de la fête nationale
DESCRIPTION:
URL:https://www.villers-semeuse.fr/event/ceremonie-commemorative-de-fete-nationale
LOCATION:Monument aux morts\, Place Jules Leroux\, Villers-Semeuse\, 08000\, France
CATEGORIES:Ville de Villers-Semeuse
ATTACH;FMTTYPE=image/png:https://www.villers-semeuse.fr/wp-content/uploads/2018/01/invitation_commemoration_14juillet-01-e1530519290620.png
ORGANIZER;CN="Ville de Villers-Semeuse":MAILTO:communication@villers-semeuse.fr
END:VEVENT
END:VCALENDAR