BEGIN:VCALENDAR
VERSION:2.0
PRODID:-//Commune de Villers-Semeuse - ECPv6.15.20//NONSGML v1.0//EN
CALSCALE:GREGORIAN
METHOD:PUBLISH
X-WR-CALNAME:Commune de Villers-Semeuse
X-ORIGINAL-URL:https://www.villers-semeuse.fr
X-WR-CALDESC:Évènements pour Commune de Villers-Semeuse
REFRESH-INTERVAL;VALUE=DURATION:PT1H
X-Robots-Tag:noindex
X-PUBLISHED-TTL:PT1H
BEGIN:VTIMEZONE
TZID:Europe/Paris
BEGIN:DAYLIGHT
TZOFFSETFROM:+0100
TZOFFSETTO:+0200
TZNAME:CEST
DTSTART:20170326T010000
END:DAYLIGHT
BEGIN:STANDARD
TZOFFSETFROM:+0200
TZOFFSETTO:+0100
TZNAME:CET
DTSTART:20171029T010000
END:STANDARD
BEGIN:DAYLIGHT
TZOFFSETFROM:+0100
TZOFFSETTO:+0200
TZNAME:CEST
DTSTART:20180325T010000
END:DAYLIGHT
BEGIN:STANDARD
TZOFFSETFROM:+0200
TZOFFSETTO:+0100
TZNAME:CET
DTSTART:20181028T010000
END:STANDARD
BEGIN:DAYLIGHT
TZOFFSETFROM:+0100
TZOFFSETTO:+0200
TZNAME:CEST
DTSTART:20190331T010000
END:DAYLIGHT
BEGIN:STANDARD
TZOFFSETFROM:+0200
TZOFFSETTO:+0100
TZNAME:CET
DTSTART:20191027T010000
END:STANDARD
END:VTIMEZONE
BEGIN:VEVENT
DTSTART;VALUE=DATE:20180501
DTEND;VALUE=DATE:20180502
DTSTAMP:20260420T041124
CREATED:20180126T105956Z
LAST-MODIFIED:20180420T142643Z
UID:2210-1525132800-1525219199@www.villers-semeuse.fr
SUMMARY:Kermesse des associations
DESCRIPTION:
URL:https://www.villers-semeuse.fr/event/kermesse-des-associations
CATEGORIES:Ville de Villers-Semeuse
ATTACH;FMTTYPE=image/png:https://www.villers-semeuse.fr/wp-content/uploads/2018/01/kermesse-des-associations-01-e1524234265634.png
ORGANIZER;CN="Ville de Villers-Semeuse":MAILTO:communication@villers-semeuse.fr
END:VEVENT
BEGIN:VEVENT
DTSTART;TZID=Europe/Paris:20180508T110000
DTEND;TZID=Europe/Paris:20180508T120000
DTSTAMP:20260420T041124
CREATED:20180126T161300Z
LAST-MODIFIED:20180430T152644Z
UID:2212-1525777200-1525780800@www.villers-semeuse.fr
SUMMARY:Commémoration de la victoire du 8 mai 1945
DESCRIPTION:
URL:https://www.villers-semeuse.fr/event/commemoration-de-victoire-8-mai-1945
LOCATION:Monument aux morts\, Place Jules Leroux\, Villers-Semeuse\, 08000\, France
CATEGORIES:Ville de Villers-Semeuse
ATTACH;FMTTYPE=image/png:https://www.villers-semeuse.fr/wp-content/uploads/2018/01/invitation_ceremonie_8mai-01-e1525101990208.png
ORGANIZER;CN="Ville de Villers-Semeuse":MAILTO:communication@villers-semeuse.fr
END:VEVENT
BEGIN:VEVENT
DTSTART;TZID=Europe/Paris:20180510T100000
DTEND;TZID=Europe/Paris:20180510T130000
DTSTAMP:20260420T041124
CREATED:20180110T103342Z
LAST-MODIFIED:20180329T142534Z
UID:1987-1525946400-1525957200@www.villers-semeuse.fr
SUMMARY:Les Foulées Villersoises #3
DESCRIPTION:[vc_row][vc_column][vc_btn title= »Bulletin d’engagement à imprimer – Les foulées villersoises #3″ color= »primary » i_icon_fontawesome= »fa fa-download » add_icon= »true » link= »url:https%3A%2F%2Fwww.villers-semeuse.fr%2Fwp-content%2Fuploads%2F2018%2F03%2Ffoulees_villersoises_2018.pdf||target:%20_blank| »][vc_btn title= »Bulletin d’engagement à imprimer – Pasta Party » color= »primary » i_icon_fontawesome= »fa fa-download » add_icon= »true » link= »url:https%3A%2F%2Fwww.villers-semeuse.fr%2Fwp-content%2Fuploads%2F2018%2F03%2Fpasta_party.pdf||target:%20_blank| »][/vc_column][/vc_row]
URL:https://www.villers-semeuse.fr/event/foulees-villersoises-3
LOCATION:Mairie de Villers-Semeuse\, 11 Rue Ferdinand Buisson\, Villers-Semeuse\, Ardennes\, 08000\, France
CATEGORIES:Ville de Villers-Semeuse
ATTACH;FMTTYPE=image/png:https://www.villers-semeuse.fr/wp-content/uploads/2018/01/foulees_villersoises_2018_affiche_plan-de-travail-1-e1522333096609.png
ORGANIZER;CN="Ville de Villers-Semeuse":MAILTO:communication@villers-semeuse.fr
END:VEVENT
BEGIN:VEVENT
DTSTART;VALUE=DATE:20180517
DTEND;VALUE=DATE:20180518
DTSTAMP:20260420T041124
CREATED:20180110T161109Z
LAST-MODIFIED:20180502T123926Z
UID:2000-1526515200-1526601599@www.villers-semeuse.fr
SUMMARY:Voyage de la municipalité pour les seniors
DESCRIPTION:La commune de Villers-Semeuse propose aux seniors de la localité son traditionnel voyage annuel. Il aura lieu le jeudi 17 mai 2018\, à destination de MAROILLES. \nInscription auprès de Mme Valérie Doudoux – CCAS (dans la limite de 50 places disponibles)
URL:https://www.villers-semeuse.fr/event/voyage-de-municipalite-seniors
CATEGORIES:CCAS de Villers-Semeuse,Ville de Villers-Semeuse
END:VEVENT
BEGIN:VEVENT
DTSTART;TZID=Europe/Paris:20180518T210000
DTEND;TZID=Europe/Paris:20180518T233000
DTSTAMP:20260420T041124
CREATED:20180116T153841Z
LAST-MODIFIED:20180129T124040Z
UID:2140-1526677200-1526686200@www.villers-semeuse.fr
SUMMARY:Théâtre: Du rififi à la morgue
DESCRIPTION:« Du rififi à la morgue » avec Alice Gaulon et Dominique-Pierre Devers \nUne morgue déserte à l’heure du déjeuner. Un médecin légiste rondouillard\, médium-voyant amateur\, avec un (très) fort penchant pour la boisson. Arrive sa soeur (survoltée)\, jeune officier de police.\nUne comédienne\, au tempérament de feu. Un comédien\, gros nounours pince sans rire. Un duo étonnant et détonnant de comédiens qui s’en donne à coeur joie et emmène les spectateurs dans 75 minutes de rire\, délire et plaisir. \nRéservations en Mairie ! \n[vc_row][vc_column][vc_btn title= »Programme théâtre 2018″ i_icon_fontawesome= »fa fa-download » add_icon= »true » link= »url:https%3A%2F%2Fwww.villers-semeuse.fr%2Fwp-content%2Fuploads%2F2018%2F01%2Fflyers_programme_theatre-1.pdf||target:%20_blank| »][/vc_column][/vc_row]\n\n\n  \n\n\n\nNewsletter programmation théâtrale\nRecevez notre programmation théâtrale par e-mail : remplissez ce formulaire en précisant vos coordonnées postales et numériques dans le message. Aucune réservation ne sera prise via ce formulaire.\n \n\n	\n		MonsieurMadame\n		 \n	\n	\n		\n		 \n	\n\n\n	\n		\n		 \n	\n\n\n	\n		\n		 \n	\n	\n		\n		 \n	\n\n\n	\n		\n		 \n	\n	\n		\n		 \n	\n\n\n	Je m'inscris à la newsletter pour recevoir par mail la programmation théâtrale.\n	 \n\n\n	J'accepte les termes et conditions énoncés dans la page politique de confidentialité concernant la collecte d'informations\n[cf7sr-simple-recaptcha]\n	\n\n	\n		\n		\n		\n		\n	\n\n\n	 \n	\n	 \n\n\n\n[vc_column_text css= ».vc_custom_1515421138059{margin-bottom: 0px !important;} »]
URL:https://www.villers-semeuse.fr/event/theatre-rififi-a-morgue
LOCATION:Salle des Fêtes\, 13 rue Ferdinand Buisson\, Villers-Semeuse\, Ardennes\, 08000\, France
CATEGORIES:Ville de Villers-Semeuse
ATTACH;FMTTYPE=image/jpeg:https://www.villers-semeuse.fr/wp-content/uploads/2018/01/final-affiche-morgue-2017-e1516116989364.jpg
ORGANIZER;CN="Ville de Villers-Semeuse":MAILTO:communication@villers-semeuse.fr
END:VEVENT
BEGIN:VEVENT
DTSTART;TZID=Europe/Paris:20180524T203000
DTEND;TZID=Europe/Paris:20180524T223000
DTSTAMP:20260420T041124
CREATED:20180130T094642Z
LAST-MODIFIED:20180509T153847Z
UID:2282-1527193800-1527201000@www.villers-semeuse.fr
SUMMARY:Conseil municipal
DESCRIPTION:Le prochain conseil municipal se tiendra le jeudi 24 mai 2018 à 20h30 en mairie avec comme ordre du jour : à découvrir prochainement. Il est ouvert au public. \nProchains conseils municipaux:\nJeudi 28 juin 2018 à 20h30
URL:https://www.villers-semeuse.fr/event/conseil-municipal-3
LOCATION:Salle du conseil municipal – Mairie\, 11 rue Ferdinand Buisson\, VILLERS-SEMEUSE\, 08000\, France
CATEGORIES:Ville de Villers-Semeuse
ORGANIZER;CN="Ville de Villers-Semeuse":MAILTO:communication@villers-semeuse.fr
END:VEVENT
BEGIN:VEVENT
DTSTART;TZID=Europe/Paris:20180526T203000
DTEND;TZID=Europe/Paris:20180526T223000
DTSTAMP:20260420T041124
CREATED:20180308T084336Z
LAST-MODIFIED:20180329T145543Z
UID:2492-1527366600-1527373800@www.villers-semeuse.fr
SUMMARY:Pièce « FOLIES »\, de la compagnie Restons scènes
DESCRIPTION:L’histoire : Il y a le ciel\, le soleil…et un banc. Ce banc\, au carrefour d’un parc d’un hôpital psychiatrique\, reçoit les confidences d’un couple drôle et en souffrance\, d’un artiste-schizophrène\, d’une érotomane en mal (mâle ?) d’infirmier psy désabusé\, et d’un ouvrier d’entretien à quelques jours de la retraite\, à la grande peine d’une psychiatre. L’optimisme de l’infirmière se révélera-t-il payant… ? Pour le savoir\, entrer dans leur « Folies »…\nSalle des fêtes – Entrée 20h\nDébat avec les membres de Cie après le spectacle \nPlus d’informations pour les réservations prochainement !
URL:https://www.villers-semeuse.fr/event/folies-de-compagnie-restons-scenes
LOCATION:Salle des Fêtes\, 13 rue Ferdinand Buisson\, Villers-Semeuse\, Ardennes\, 08000\, France
CATEGORIES:Associations,Ville de Villers-Semeuse
ATTACH;FMTTYPE=image/png:https://www.villers-semeuse.fr/wp-content/uploads/2018/03/folies-restons-scenes-e1520498557334.png
ORGANIZER;CN="Ville de Villers-Semeuse":MAILTO:communication@villers-semeuse.fr
END:VEVENT
END:VCALENDAR