BEGIN:VCALENDAR
VERSION:2.0
PRODID:-//Commune de Villers-Semeuse - ECPv6.15.20//NONSGML v1.0//EN
CALSCALE:GREGORIAN
METHOD:PUBLISH
X-ORIGINAL-URL:https://www.villers-semeuse.fr
X-WR-CALDESC:Évènements pour Commune de Villers-Semeuse
REFRESH-INTERVAL;VALUE=DURATION:PT1H
X-Robots-Tag:noindex
X-PUBLISHED-TTL:PT1H
BEGIN:VTIMEZONE
TZID:Europe/Paris
BEGIN:DAYLIGHT
TZOFFSETFROM:+0100
TZOFFSETTO:+0200
TZNAME:CEST
DTSTART:20170326T010000
END:DAYLIGHT
BEGIN:STANDARD
TZOFFSETFROM:+0200
TZOFFSETTO:+0100
TZNAME:CET
DTSTART:20171029T010000
END:STANDARD
BEGIN:DAYLIGHT
TZOFFSETFROM:+0100
TZOFFSETTO:+0200
TZNAME:CEST
DTSTART:20180325T010000
END:DAYLIGHT
BEGIN:STANDARD
TZOFFSETFROM:+0200
TZOFFSETTO:+0100
TZNAME:CET
DTSTART:20181028T010000
END:STANDARD
BEGIN:DAYLIGHT
TZOFFSETFROM:+0100
TZOFFSETTO:+0200
TZNAME:CEST
DTSTART:20190331T010000
END:DAYLIGHT
BEGIN:STANDARD
TZOFFSETFROM:+0200
TZOFFSETTO:+0100
TZNAME:CET
DTSTART:20191027T010000
END:STANDARD
END:VTIMEZONE
BEGIN:VEVENT
DTSTART;TZID=Europe/Paris:20180316T120000
DTEND;TZID=Europe/Paris:20180316T160000
DTSTAMP:20260420T073705
CREATED:20180110T160910Z
LAST-MODIFIED:20180226T143735Z
UID:1995-1521201600-1521216000@www.villers-semeuse.fr
SUMMARY:Repas de la municipalité pour les seniors
DESCRIPTION:Inscriptions en mairie !
URL:https://www.villers-semeuse.fr/event/repas-de-municipalite-seniors
LOCATION:Salle des Fêtes\, 13 rue Ferdinand Buisson\, Villers-Semeuse\, Ardennes\, 08000\, France
CATEGORIES:Ville de Villers-Semeuse
ORGANIZER;CN="Ville de Villers-Semeuse":MAILTO:communication@villers-semeuse.fr
END:VEVENT
BEGIN:VEVENT
DTSTART;TZID=Europe/Paris:20180330T210000
DTEND;TZID=Europe/Paris:20180330T233000
DTSTAMP:20260420T073705
CREATED:20180116T153258Z
LAST-MODIFIED:20180129T124013Z
UID:2136-1522443600-1522452600@www.villers-semeuse.fr
SUMMARY:Théâtre: Politic Show
DESCRIPTION:« Politic Show » avec Paul Dureau \nLe spectacle qui suit l’actualité au jour le jour\, Paul Dureau présente un spectacle brillant fait d’analyses humoristiques de l’actualité\, de sketchs\, chansons et imitations… Dans l’esprit si joyeux et si particulier des plus grands chansonniers. Toute une soirée de rire\, d’un humour fin et percutant. Toute l’actualité passée au crible du rire\, afin de transformer les sanglots de l’actualité en larmes de rire. \nRéservations en Mairie ! \n[vc_row][vc_column][vc_btn title= »Programme théâtre 2018″ i_icon_fontawesome= »fa fa-download » add_icon= »true » link= »url:https%3A%2F%2Fwww.villers-semeuse.fr%2Fwp-content%2Fuploads%2F2018%2F01%2Fflyers_programme_theatre-1.pdf||target:%20_blank| »][/vc_column][/vc_row]\n\n\n  \n\n\n\nNewsletter programmation théâtrale\nRecevez notre programmation théâtrale par e-mail : remplissez ce formulaire en précisant vos coordonnées postales et numériques dans le message. Aucune réservation ne sera prise via ce formulaire.\n \n\n	\n		MonsieurMadame\n		 \n	\n	\n		\n		 \n	\n\n\n	\n		\n		 \n	\n\n\n	\n		\n		 \n	\n	\n		\n		 \n	\n\n\n	\n		\n		 \n	\n	\n		\n		 \n	\n\n\n	Je m'inscris à la newsletter pour recevoir par mail la programmation théâtrale.\n	 \n\n\n	J'accepte les termes et conditions énoncés dans la page politique de confidentialité concernant la collecte d'informations\n[cf7sr-simple-recaptcha]\n	\n\n	\n		\n		\n		\n		\n	\n\n\n	 \n	\n	 \n\n\n\n[vc_column_text css= ».vc_custom_1515421138059{margin-bottom: 0px !important;} »]
URL:https://www.villers-semeuse.fr/event/theatre-politic-show
LOCATION:Salle des Fêtes\, 13 rue Ferdinand Buisson\, Villers-Semeuse\, Ardennes\, 08000\, France
CATEGORIES:Ville de Villers-Semeuse
ATTACH;FMTTYPE=image/jpeg:https://www.villers-semeuse.fr/wp-content/uploads/2018/01/politic_show_hd-e1516116518776.jpg
ORGANIZER;CN="Ville de Villers-Semeuse":MAILTO:communication@villers-semeuse.fr
END:VEVENT
END:VCALENDAR