BEGIN:VCALENDAR
VERSION:2.0
PRODID:-//Commune de Villers-Semeuse - ECPv6.15.20//NONSGML v1.0//EN
CALSCALE:GREGORIAN
METHOD:PUBLISH
X-ORIGINAL-URL:https://www.villers-semeuse.fr
X-WR-CALDESC:Évènements pour Commune de Villers-Semeuse
REFRESH-INTERVAL;VALUE=DURATION:PT1H
X-Robots-Tag:noindex
X-PUBLISHED-TTL:PT1H
BEGIN:VTIMEZONE
TZID:Europe/Paris
BEGIN:DAYLIGHT
TZOFFSETFROM:+0100
TZOFFSETTO:+0200
TZNAME:CEST
DTSTART:20170326T010000
END:DAYLIGHT
BEGIN:STANDARD
TZOFFSETFROM:+0200
TZOFFSETTO:+0100
TZNAME:CET
DTSTART:20171029T010000
END:STANDARD
BEGIN:DAYLIGHT
TZOFFSETFROM:+0100
TZOFFSETTO:+0200
TZNAME:CEST
DTSTART:20180325T010000
END:DAYLIGHT
BEGIN:STANDARD
TZOFFSETFROM:+0200
TZOFFSETTO:+0100
TZNAME:CET
DTSTART:20181028T010000
END:STANDARD
BEGIN:DAYLIGHT
TZOFFSETFROM:+0100
TZOFFSETTO:+0200
TZNAME:CEST
DTSTART:20190331T010000
END:DAYLIGHT
BEGIN:STANDARD
TZOFFSETFROM:+0200
TZOFFSETTO:+0100
TZNAME:CET
DTSTART:20191027T010000
END:STANDARD
END:VTIMEZONE
BEGIN:VEVENT
DTSTART;TZID=Europe/Paris:20180206T083000
DTEND;TZID=Europe/Paris:20180206T100000
DTSTAMP:20260420T091158
CREATED:20180201T191133Z
LAST-MODIFIED:20180201T191133Z
UID:2299-1517905800-1517911200@www.villers-semeuse.fr
SUMMARY:Annulation de la permanence du Maire
DESCRIPTION:
URL:https://www.villers-semeuse.fr/event/annulation-de-permanence-maire
LOCATION:Mairie de Villers-Semeuse\, 11 Rue Ferdinand Buisson\, Villers-Semeuse\, Ardennes\, 08000\, France
CATEGORIES:Ville de Villers-Semeuse
ATTACH;FMTTYPE=image/jpeg:https://www.villers-semeuse.fr/wp-content/uploads/2018/02/affiche-annulation-permanence-maire-le-06-02-2018-e1517512248345.jpg
ORGANIZER;CN="Ville de Villers-Semeuse":MAILTO:communication@villers-semeuse.fr
END:VEVENT
BEGIN:VEVENT
DTSTART;TZID=Europe/Paris:20180207T190000
DTEND;TZID=Europe/Paris:20180207T200000
DTSTAMP:20260420T091158
CREATED:20180116T150910Z
LAST-MODIFIED:20180116T151221Z
UID:2116-1518030000-1518033600@www.villers-semeuse.fr
SUMMARY:Réunion CCQ 1 - Semeuse
DESCRIPTION:Ces réunions sont ouvertes à l’ensemble des habitants du quartier sans condition. Faites entendre votre voix\, nous comptons sur vous. En cas d’indisponibilité\, nous acceptons les demandes ou remarques\, idées écrites.
URL:https://www.villers-semeuse.fr/event/reunion-ccq-1-semeuse
LOCATION:Salle des Fêtes\, 13 rue Ferdinand Buisson\, Villers-Semeuse\, Ardennes\, 08000\, France
CATEGORIES:Ville de Villers-Semeuse
ATTACH;FMTTYPE=image/png:https://www.villers-semeuse.fr/wp-content/uploads/2018/01/flyers_ccq_runions_fvrier2018-01-e1516115272352.png
ORGANIZER;CN="Ville de Villers-Semeuse":MAILTO:communication@villers-semeuse.fr
END:VEVENT
BEGIN:VEVENT
DTSTART;TZID=Europe/Paris:20180209T210000
DTEND;TZID=Europe/Paris:20180209T233000
DTSTAMP:20260420T091158
CREATED:20180110T094039Z
LAST-MODIFIED:20180126T161239Z
UID:1954-1518210000-1518219000@www.villers-semeuse.fr
SUMMARY:Théâtre: Tableaux de famille
DESCRIPTION:« Tableaux de famille » avec Daniele Evenou\, Gérard Vives et Nicolas Le Guen\nMarie\, la soixantaine séduisante vit seule avec son fils Arthur\, dans un appartement orné de faux tableaux de maîtres achetés par feu son mari\, escroc de haut vol.\nRentrant un soir à l’improviste\, elle découvre son fils en compagnie d’un séduisant quinquagénaire …et si ces tableaux de maîtres étaient authentiques … ?\nUne comédie policière à rebondissements ! \nRéservations en Mairie ! \n[vc_row][vc_column][vc_btn title= »Programme théâtre 2018″ i_icon_fontawesome= »fa fa-download » add_icon= »true » link= »url:https%3A%2F%2Fwww.villers-semeuse.fr%2Fwp-content%2Fuploads%2F2018%2F01%2Fflyers_programme_theatre-1.pdf||target:%20_blank| »][/vc_column][/vc_row]\n\n\n  \n\n\n\nNewsletter programmation théâtrale\nRecevez notre programmation théâtrale par e-mail : remplissez ce formulaire en précisant vos coordonnées postales et numériques dans le message. Aucune réservation ne sera prise via ce formulaire.\n \n\n	\n		MonsieurMadame\n		 \n	\n	\n		\n		 \n	\n\n\n	\n		\n		 \n	\n\n\n	\n		\n		 \n	\n	\n		\n		 \n	\n\n\n	\n		\n		 \n	\n	\n		\n		 \n	\n\n\n	Je m'inscris à la newsletter pour recevoir par mail la programmation théâtrale.\n	 \n\n\n	J'accepte les termes et conditions énoncés dans la page politique de confidentialité concernant la collecte d'informations\n[cf7sr-simple-recaptcha]\n	\n\n	\n		\n		\n		\n		\n	\n\n\n	 \n	\n	 \n\n\n\n[vc_column_text css= ».vc_custom_1515421138059{margin-bottom: 0px !important;} »]
URL:https://www.villers-semeuse.fr/event/theatre-tableaux-de-famille
LOCATION:Salle des Fêtes\, 13 rue Ferdinand Buisson\, Villers-Semeuse\, Ardennes\, 08000\, France
CATEGORIES:Ville de Villers-Semeuse
ATTACH;FMTTYPE=image/jpeg:https://www.villers-semeuse.fr/wp-content/uploads/2018/01/0-affiche-def-v2-rvb-copie-e1515577100323.jpg
ORGANIZER;CN="Ville de Villers-Semeuse":MAILTO:communication@villers-semeuse.fr
END:VEVENT
BEGIN:VEVENT
DTSTART;TZID=Europe/Paris:20180213T180000
DTEND;TZID=Europe/Paris:20180213T190000
DTSTAMP:20260420T091158
CREATED:20180116T151051Z
LAST-MODIFIED:20180116T151233Z
UID:2122-1518544800-1518548400@www.villers-semeuse.fr
SUMMARY:Réunion CCQ 2 - Gros Caillou
DESCRIPTION:Ces réunions sont ouvertes à l’ensemble des habitants du quartier sans condition. Faites entendre votre voix\, nous comptons sur vous. En cas d’indisponibilité\, nous acceptons les demandes ou remarques\, idées écrites.
URL:https://www.villers-semeuse.fr/event/reunion-ccq2-gros-caillou
LOCATION:Salle des Fêtes\, 13 rue Ferdinand Buisson\, Villers-Semeuse\, Ardennes\, 08000\, France
CATEGORIES:Ville de Villers-Semeuse
ATTACH;FMTTYPE=image/png:https://www.villers-semeuse.fr/wp-content/uploads/2018/01/flyers_ccq_runions_fvrier2018-02-e1516115399714.png
ORGANIZER;CN="Ville de Villers-Semeuse":MAILTO:communication@villers-semeuse.fr
END:VEVENT
BEGIN:VEVENT
DTSTART;TZID=Europe/Paris:20180214T190000
DTEND;TZID=Europe/Paris:20180214T200000
DTSTAMP:20260420T091158
CREATED:20180116T151305Z
LAST-MODIFIED:20180116T151305Z
UID:2127-1518634800-1518638400@www.villers-semeuse.fr
SUMMARY:Réunion CCQ 3 - Mairie-Église
DESCRIPTION:Ces réunions sont ouvertes à l’ensemble des habitants du quartier sans condition. Faites entendre votre voix\, nous comptons sur vous. En cas d’indisponibilité\, nous acceptons les demandes ou remarques\, idées écrites.
URL:https://www.villers-semeuse.fr/event/reunion-ccq-3-mairie-eglise
LOCATION:Salle des Fêtes\, 13 rue Ferdinand Buisson\, Villers-Semeuse\, Ardennes\, 08000\, France
CATEGORIES:Ville de Villers-Semeuse
ATTACH;FMTTYPE=image/png:https://www.villers-semeuse.fr/wp-content/uploads/2018/01/flyers_ccq_runions_fvrier2018-03-e1516115411107.png
ORGANIZER;CN="Ville de Villers-Semeuse":MAILTO:communication@villers-semeuse.fr
END:VEVENT
BEGIN:VEVENT
DTSTART;TZID=Europe/Paris:20180218T143000
DTEND;TZID=Europe/Paris:20180218T200000
DTSTAMP:20260420T091158
CREATED:20171229T084431Z
LAST-MODIFIED:20171229T084431Z
UID:1906-1518964200-1518984000@www.villers-semeuse.fr
SUMMARY:Thé dansant
DESCRIPTION:
URL:https://www.villers-semeuse.fr/event/the-dansant
LOCATION:Salle des Fêtes\, 13 rue Ferdinand Buisson\, Villers-Semeuse\, Ardennes\, 08000\, France
CATEGORIES:CCAS de Villers-Semeuse,Ville de Villers-Semeuse
ATTACH;FMTTYPE=image/png:https://www.villers-semeuse.fr/wp-content/uploads/2017/12/thdansant_2018-e1514537041492.png
END:VEVENT
BEGIN:VEVENT
DTSTART;TZID=Europe/Paris:20180221T190000
DTEND;TZID=Europe/Paris:20180221T200000
DTSTAMP:20260420T091158
CREATED:20180116T151347Z
LAST-MODIFIED:20180117T085912Z
UID:2131-1519239600-1519243200@www.villers-semeuse.fr
SUMMARY:Réunion CCQ 4 - Charme Cités Charmille
DESCRIPTION:Ces réunions sont ouvertes à l’ensemble des habitants du quartier sans condition. Faites entendre votre voix\, nous comptons sur vous. En cas d’indisponibilité\, nous acceptons les demandes ou remarques\, idées écrites.
URL:https://www.villers-semeuse.fr/event/reunion-ccq-4-charme-cites-charmille
LOCATION:Salle des Fêtes\, 13 rue Ferdinand Buisson\, Villers-Semeuse\, Ardennes\, 08000\, France
CATEGORIES:Ville de Villers-Semeuse
ATTACH;FMTTYPE=image/png:https://www.villers-semeuse.fr/wp-content/uploads/2018/01/flyers_ccq_runions_fvrier2018-04-e1516115425185.png
ORGANIZER;CN="Ville de Villers-Semeuse":MAILTO:communication@villers-semeuse.fr
END:VEVENT
BEGIN:VEVENT
DTSTART;TZID=Europe/Paris:20180222T203000
DTEND;TZID=Europe/Paris:20180222T223000
DTSTAMP:20260420T091158
CREATED:20180130T094411Z
LAST-MODIFIED:20180326T071839Z
UID:2276-1519331400-1519338600@www.villers-semeuse.fr
SUMMARY:Conseil municipal
DESCRIPTION:Le prochain conseil municipal se tiendra le jeudi 22 février 2018 à 20h30 en mairie avec comme ordre du jour :  les orientations budgétaires. Ils sont tous ouverts au public. \nProchains conseils municipaux:\nMardi 3 avril 2018 à 20h30 : Vote du budget primitif 2018\nJeudi 17 mai 2018 à 20h30\nJeudi 28 juin 2018 à 20h30
URL:https://www.villers-semeuse.fr/event/conseil-municipal
LOCATION:Salle du conseil municipal – Mairie\, 11 rue Ferdinand Buisson\, VILLERS-SEMEUSE\, 08000\, France
CATEGORIES:Ville de Villers-Semeuse
ORGANIZER;CN="Ville de Villers-Semeuse":MAILTO:communication@villers-semeuse.fr
END:VEVENT
END:VCALENDAR