BEGIN:VCALENDAR
VERSION:2.0
PRODID:-//Commune de Villers-Semeuse - ECPv6.15.20//NONSGML v1.0//EN
CALSCALE:GREGORIAN
METHOD:PUBLISH
X-ORIGINAL-URL:https://www.villers-semeuse.fr
X-WR-CALDESC:Évènements pour Commune de Villers-Semeuse
REFRESH-INTERVAL;VALUE=DURATION:PT1H
X-Robots-Tag:noindex
X-PUBLISHED-TTL:PT1H
BEGIN:VTIMEZONE
TZID:Europe/Paris
BEGIN:DAYLIGHT
TZOFFSETFROM:+0100
TZOFFSETTO:+0200
TZNAME:CEST
DTSTART:20160327T010000
END:DAYLIGHT
BEGIN:STANDARD
TZOFFSETFROM:+0200
TZOFFSETTO:+0100
TZNAME:CET
DTSTART:20161030T010000
END:STANDARD
BEGIN:DAYLIGHT
TZOFFSETFROM:+0100
TZOFFSETTO:+0200
TZNAME:CEST
DTSTART:20170326T010000
END:DAYLIGHT
BEGIN:STANDARD
TZOFFSETFROM:+0200
TZOFFSETTO:+0100
TZNAME:CET
DTSTART:20171029T010000
END:STANDARD
BEGIN:DAYLIGHT
TZOFFSETFROM:+0100
TZOFFSETTO:+0200
TZNAME:CEST
DTSTART:20180325T010000
END:DAYLIGHT
BEGIN:STANDARD
TZOFFSETFROM:+0200
TZOFFSETTO:+0100
TZNAME:CET
DTSTART:20181028T010000
END:STANDARD
BEGIN:DAYLIGHT
TZOFFSETFROM:+0100
TZOFFSETTO:+0200
TZNAME:CEST
DTSTART:20190331T010000
END:DAYLIGHT
BEGIN:STANDARD
TZOFFSETFROM:+0200
TZOFFSETTO:+0100
TZNAME:CET
DTSTART:20191027T010000
END:STANDARD
END:VTIMEZONE
BEGIN:VEVENT
DTSTART;TZID=Europe/Paris:20171231T203000
DTEND;TZID=Europe/Paris:20180101T030000
DTSTAMP:20260420T105251
CREATED:20171130T233543Z
LAST-MODIFIED:20171130T233543Z
UID:1490-1514752200-1514775600@www.villers-semeuse.fr
SUMMARY:Soirée de la Saint Sylvestre
DESCRIPTION:
URL:https://www.villers-semeuse.fr/event/soiree-de-saint-sylvestre
LOCATION:Salle des Fêtes\, 13 rue Ferdinand Buisson\, Villers-Semeuse\, Ardennes\, 08000\, France
CATEGORIES:Ville de Villers-Semeuse
ATTACH;FMTTYPE=image/png:https://www.villers-semeuse.fr/wp-content/uploads/2017/12/affiche_saint_sylvestre_2017_plan-de-travail-1-e1512084821366.png
ORGANIZER;CN="Ville de Villers-Semeuse":MAILTO:communication@villers-semeuse.fr
END:VEVENT
BEGIN:VEVENT
DTSTART;TZID=Europe/Paris:20180104T181500
DTEND;TZID=Europe/Paris:20180104T203000
DTSTAMP:20260420T105251
CREATED:20171208T071352Z
LAST-MODIFIED:20171208T071352Z
UID:1612-1515089700-1515097800@www.villers-semeuse.fr
SUMMARY:Voeux du Maire à la population
DESCRIPTION:
URL:https://www.villers-semeuse.fr/event/voeux-maire-population
LOCATION:Salle des Fêtes\, 13 rue Ferdinand Buisson\, Villers-Semeuse\, Ardennes\, 08000\, France
CATEGORIES:Ville de Villers-Semeuse
ORGANIZER;CN="Ville de Villers-Semeuse":MAILTO:communication@villers-semeuse.fr
END:VEVENT
BEGIN:VEVENT
DTSTART;TZID=Europe/Paris:20180106T090000
DTEND;TZID=Europe/Paris:20180106T160000
DTSTAMP:20260420T105251
CREATED:20171229T081647Z
LAST-MODIFIED:20171229T081647Z
UID:1886-1515229200-1515254400@www.villers-semeuse.fr
SUMMARY:Collecte des sapins
DESCRIPTION:
URL:https://www.villers-semeuse.fr/event/collecte-des-sapins
LOCATION:Plateforme municipale\, rue Paul Bert\, VILLERS-SEMEUSE\, 08000\, France
CATEGORIES:Ville de Villers-Semeuse
ATTACH;FMTTYPE=image/png:https://www.villers-semeuse.fr/wp-content/uploads/2017/12/recyclage_sapins_2018_plan-de-travail-1-e1514535378303.png
ORGANIZER;CN="Ville de Villers-Semeuse":MAILTO:communication@villers-semeuse.fr
END:VEVENT
BEGIN:VEVENT
DTSTART;TZID=Europe/Paris:20180110T140000
DTEND;TZID=Europe/Paris:20180110T170000
DTSTAMP:20260420T105251
CREATED:20171229T083539Z
LAST-MODIFIED:20180110T141652Z
UID:1893-1515592800-1515603600@www.villers-semeuse.fr
SUMMARY:Galette des rois des seniors de l'Amicale des anciens\, offerte par le maire
DESCRIPTION:
URL:https://www.villers-semeuse.fr/event/galette-rois-seniors-offerte-maire
LOCATION:Salle des Fêtes\, 13 rue Ferdinand Buisson\, Villers-Semeuse\, Ardennes\, 08000\, France
CATEGORIES:Ville de Villers-Semeuse
ORGANIZER;CN="Ville de Villers-Semeuse":MAILTO:communication@villers-semeuse.fr
END:VEVENT
BEGIN:VEVENT
DTSTART;TZID=Europe/Paris:20180113T090000
DTEND;TZID=Europe/Paris:20180113T160000
DTSTAMP:20260420T105251
CREATED:20180111T095332Z
LAST-MODIFIED:20180111T095607Z
UID:2040-1515834000-1515859200@www.villers-semeuse.fr
SUMMARY:SEL'IDARITÉ\, Distribution de sel
DESCRIPTION:Pour les personnes ayant déjà bénéficiées de ce service l’année dernière\, merci de bien vouloir ramener votre seau pour qu’il soit de nouveau rempli !
URL:https://www.villers-semeuse.fr/event/selidarite-distribution-de-sel
LOCATION:Ateliers municipaux\, Rue albert poulain\, VILLERS-SEMEUSE\, 08000\, France
CATEGORIES:Ville de Villers-Semeuse
ATTACH;FMTTYPE=image/png:https://www.villers-semeuse.fr/wp-content/uploads/2018/01/flyer_bac_a_sel-01-e1515663334740.png
ORGANIZER;CN="Ville de Villers-Semeuse":MAILTO:communication@villers-semeuse.fr
END:VEVENT
BEGIN:VEVENT
DTSTART;TZID=Europe/Paris:20180120T090000
DTEND;TZID=Europe/Paris:20180120T160000
DTSTAMP:20260420T105251
CREATED:20180111T095456Z
LAST-MODIFIED:20180111T095551Z
UID:2045-1516438800-1516464000@www.villers-semeuse.fr
SUMMARY:SEL'IDARITÉ - Distribution de sel
DESCRIPTION:Pour les personnes ayant déjà bénéficiées de ce service l’année dernière\, merci de bien vouloir ramener votre seau pour qu’il soit de nouveau rempli !
URL:https://www.villers-semeuse.fr/event/selidarite-distribution-de-sel-2
LOCATION:Ateliers municipaux\, Rue albert poulain\, VILLERS-SEMEUSE\, 08000\, France
CATEGORIES:Ville de Villers-Semeuse
ATTACH;FMTTYPE=image/png:https://www.villers-semeuse.fr/wp-content/uploads/2018/01/flyer_bac_a_sel-01-e1515663334740.png
ORGANIZER;CN="Ville de Villers-Semeuse":MAILTO:communication@villers-semeuse.fr
END:VEVENT
END:VCALENDAR